BEGIN:VCALENDAR
VERSION:2.0
PRODID:-//AudioTheme 3.0.2
BEGIN:VEVENT
UID:urn:uuid:56304ef3-da4a-4c59-9bf4-42ab90ec9054
URL:https://www.shlomitbutbul.com/shows/was-immer-auch-kommt-shlomit-butbul-singt-roger-cicero/
DTSTART;TZID=GMT:20251101T190000
SUMMARY:"Was immer auch kommt" SHLOMIT BUTBUL singt ROGER CICERO
DESCRIPTION:10 Jahre ist am 24.03.2026 Roger Cicero tot.  Ein großer Verlust der Europäischen Musikszene.  Mit diesem Programm ehrt Shlomit Butbul mit  ausschließlich Cicero Songs den großen Künstler.  Dies ist das erste Konzert-Premiere einer Tribut Show für den großen Künstler Cicero.
LOCATION:Porgy and Bess Vienna\, Riemergasse 11\, Porgy & Bess 1010 Vienna\, Riemergasse 11 -Tribut Roger cicero\, \, 1010
END:VEVENT
END:VCALENDAR
