BEGIN:VCALENDAR
VERSION:2.0
PRODID:-//AudioTheme 3.0.2
BEGIN:VEVENT
UID:urn:uuid:1b849b8d-66ad-40f3-8da0-e3675ab77aa1
URL:https://www.shlomitbutbul.com/shows/theatersommer-mauer-musiktheater-2/
DTSTART;TZID=GMT:20210813T170000
SUMMARY:THEATERSOMMER MAUER/Musiktheater
DESCRIPTION:„Im Café rennt der Schmäh“  Eine Hommage an das Wiener Café und das Goldene Wienerherz mit:  Irene Budischowsky  Shlomit Butbul  Fabian Spatzek            Franz Suhrada  Alfred Pfeifer  Martha Butbul/Jazzgitti  Christian Spatzek  Musik: Frizz Fischer
LOCATION:ALTEN RATHAUS MAUER (VHS MAUER)\, Speisinger Straße 256\, 1230 Wien\, Wien-ALTEN RATHAUS MAUER (VHS MAUER)\, 
END:VEVENT
END:VCALENDAR
