BEGIN:VCALENDAR
VERSION:2.0
PRODID:-//AudioTheme 3.0.2
BEGIN:VEVENT
UID:urn:uuid:571654a0-4e08-493b-a755-5d5182a4c8f8
URL:https://www.shlomitbutbul.com/shows/shlomit-walking-the-parrots-2/
DTSTART;TZID=GMT:20190309T180000
SUMMARY:SHLOMIT walking the PARROTS Jazz5tet
DESCRIPTION:Line up:  Oliver Kent piano  Hannes Strasser bass  Herwig Gradischnig sax  Christian Salfellner drums  Shlomit voc    Songs from Nancy Wilson\, Sarah Vaughan\, Chet Baker &amp\; Frank Sinatra !
LOCATION:SHIR-music Eisenstadt\, Hauptstrasse 1 A\, Eisenstadt @ SHIR music\, \, 7000
END:VEVENT
END:VCALENDAR
