BEGIN:VCALENDAR
VERSION:2.0
PRODID:-//AudioTheme 3.0.2
BEGIN:VEVENT
UID:urn:uuid:5521a443-ca5e-4e9a-bd63-94a512c1fd39
URL:https://www.shlomitbutbul.com/shows/shlomit-songs-in-hebrew-ethno-7worldmusic/
DTSTART;TZID=GMT:20191202T183000
SUMMARY:SHLOMIT-Songs in Hebrew -Ethno/Worldmusic
DESCRIPTION:Line up:  Roland Guggenbichler piano/keyb.  Herwig Gradischnig sax.  Sascha Lackner bass.  Andi Steirer percussion  Christian Salfellner drums  Shlomit voc.
LOCATION:Jüdisches Festival Wien\, Theater am Spittelberg\, Jüdisches Festival Wien @Theater am Spittelberg\, \, 1070
END:VEVENT
END:VCALENDAR
