BEGIN:VCALENDAR
VERSION:2.0
PRODID:-//AudioTheme 3.0.2
BEGIN:VEVENT
UID:urn:uuid:2fc7d5fb-7ff4-45d0-bb0f-40cb28aeca8e
URL:https://www.shlomitbutbul.com/shows/moerbisch-2025-saturday-night-fever-flo-manero-17/
DTSTART;TZID=GMT:20250808T180000
SUMMARY:MÖRBISCH 2025 Saturday Night Fever- Flo Manero
DESCRIPTION:Shlomit Butbul darf nochmals auf der Seebühne Mörbisch im Burgenland spielen.  Diese Saison übernimmt sie die Rolle der Mutter von Tony .  ...ich freue mich sehr auf diese Arbeit und über das tolle Publikum!
LOCATION:Seefestspiele Mörbisch\, KBB – Kultur-Betriebe Burgenland GmbH c/o Seefestspiele Mörbisch Festspielgelände 1\, Seefestspiele Mörbisch-Burgenland\, 
END:VEVENT
END:VCALENDAR
