BEGIN:VCALENDAR
VERSION:2.0
PRODID:-//AudioTheme 3.0.2
BEGIN:VEVENT
UID:urn:uuid:6662792d-196f-4d6f-bf8a-f12d9ee53f27
URL:https://www.shlomitbutbul.com/shows/lp-sale-aus-gittis-jazzclub-mit-der-frau-mama/
DTSTART;TZID=GMT:20221214T110000
SUMMARY:LP SALE  aus GITTI´s Jazzclub mit der Frau Mama
DESCRIPTION:Von 1979- 1986 gab es die legendären Jazzclubs der heute bekannten Jazzgitti. Damals gab es noch DJ´s und aus dieser Zeit verkauft Shlomit Butbul die Jazz LP´s der damaligen Jazzclubs. Um 16:00 kommt ihre Mutter Martha Butbul bekannt als Jazzgitti und signiert gerne jede gekaufte LP . Kommt in den Weihnachtsmarkt des Spielberg Theaters\, wir freuen uns auf euch!
LOCATION:Theater am Spittelberg\, Spittelberggasse 10\, 1070 Wien\, Wien\, Spittelberg Theater\, Wien\, Austria\, 1070
END:VEVENT
END:VCALENDAR
