BEGIN:VCALENDAR
VERSION:2.0
PRODID:-//AudioTheme 3.0.2
BEGIN:VEVENT
UID:urn:uuid:b49028e4-afaf-4d32-8cc0-cbcb14538e09
URL:https://www.shlomitbutbul.com/shows/hauptsache-koscher-9/
DTSTART;TZID=GMT:20201110T183000
SUMMARY:"HAUPTSACHE KOSCHER!"
DESCRIPTION:„Hauptsache Koscher!“  mit Tania Golden\, Shlomit Butbul\, Bruno Salomon\, Wolfgang Schmidt  Produktion/Text/Dramaturgie: Susanne Höhne  Reservierung: susanne.hoehne@chello.at    Ein Streifzug durch den jüdischen Humor\, Texte\, Szenen\, Couplets und Chansons   aus dem Repertoire einer vertriebenen Revue- und Kabarettkultur.  „Hauptsache Koscher\, oder auch nicht“ ist eine Collage aus Texten und Liedern einer längst vertriebenen Kabarettkultur. Jüdisches Kabarett\, einmal anders\, nämlich modern\, schräg und literarisch. Shlomit Butbul\, Tania Golden und Bruno Salomon erwecken ein ehemaliges jüdisches Theater zum Leben. Butbul und Golden sind die Theaterdirektoren und dann wieder die Schauspielerinnen dieses Theaters. Mühelos verwandeln sie sich von einem ins andere und beweisen dabei ihr komisches Talent. Bruno Salomon stellt den unglücklichen Schauspieler dar\, der kein Engagement bekommt und nur als Serviermädchen dienen darf. In diesem Rahmen interpretieren die drei Darsteller Texte und Lieder von Armin Berg\, Friedrich Holländer\, Fritz Grünbaum\, Karl Farkas\, RodaRoda\, Ralph Benatzky\, Louis Taufstein\, Anton Kuh und Elfriede Gerstl u.a... Einige der „Gstanzln“ wurden von Wolfgang Schmidt neu vertont.    „Hauptsache Koscher!“ ist die Empfehlung für Connaisseurs und zum Kennenlernen des jüdischen Humors. Oder wie einer dessen legendärsten Könner simpl sagte: „Schau’n Sie sich das an!“ – Michaela Mottinger: Mottingers Meinung. „Wiener jüdischer Humor in seiner Hochblüte der 1920er wir hier erfrischend ins 21. Jhdt ‚übergeführt‘.“  - #Landaus Schnellkritik  
LOCATION:Kultursaal Vösendorf  2\, Kindbergstrasse 12\, Kultursaal Vösendorf Kindbergstasse 12 \,2331 Vösendorf\, \, Vösendorf\, 2331
END:VEVENT
END:VCALENDAR
