BEGIN:VCALENDAR
VERSION:2.0
PRODID:-//AudioTheme 3.0.2
BEGIN:VEVENT
UID:urn:uuid:7ef9ce07-512a-4309-8830-9f51d61bba6f
URL:https://www.shlomitbutbul.com/shows/feuerwerk-kittsee-sommertheater-tante-berta-7/
DTSTART;TZID=GMT:20230722T180000
SUMMARY:FEUERWERK-KITTSEE DERNIERE -SOMMERTHEATER- Tante Berta
DESCRIPTION:Feuerwerk von Paul Burkhard  Die musikalische Komödie spielt in der Villa und im Garten des Fabrikanten Albert Oberholzer zu Beginn des 20. Jahrhunderts. Fabrikant Oberholzer will im Kreis der Familie seinen runden Geburtstag feiern.     
LOCATION:Freiluftbühne im Schlosspark Kittsee |\, Dr. Ladislaus Batthyany Platz 1\, 2421 KITTSEE\, Freiluftbühne im Schlosspark Kittsee -FEUERWERK-Tante Berta\, \, 2421 KITTSEE
END:VEVENT
END:VCALENDAR
