BEGIN:VCALENDAR
VERSION:2.0
PRODID:-//AudioTheme 3.0.2
BEGIN:VEVENT
UID:urn:uuid:daa4d2ff-7a87-4cb3-8efc-dd60af528f91
URL:https://www.shlomitbutbul.com/shows/es-ist-was-es-ist-liebestoene-nach-erich-fried-shlomit-ensemble-fandujo/
DTSTART;TZID=GMT:20200508T173000
SUMMARY:Es ist was es ist -Liebestöne nach Erich Fried- SHLOMIT &amp; ENSEMBLE Fandujo
LOCATION:Cultura Stella Nova\, Hauptstrasse 99\, 19:30 Breitenfurt-Hauptstrasse 99 @ Cultura Stella Nova\, \, Österreich\, 2384
END:VEVENT
END:VCALENDAR
