BEGIN:VCALENDAR
VERSION:2.0
PRODID:-//AudioTheme 3.0.2
BEGIN:VEVENT
UID:urn:uuid:477d91e2-79ae-4662-8bd4-b8aae9d98463
URL:https://www.shlomitbutbul.com/shows/duo-shlomit-butbul-reinhard-micko-ball-ladies-night/
DTSTART;TZID=GMT:20260307T210000
SUMMARY:DUO SHLOMIT BUTBUL &amp; REINHARD MICKO/BALL "Ladies Night"
DESCRIPTION:SHLOMIT BUTBUL &amp\; REINHARD MICKO DUO  Diese außergewöhnlichen Künstler schaffen es mit einer einzigartigen Mischung aus Intimität und Tiefe ihr Publikum zu verzaubern.  Melodien bekannter JAZZ DIVEN und auch TITELN von ROGER CICERO\, berühren die Darbietungen die Herzen und führen die Zuhörer in eine Welt voller Emotionen und Kultureller Verbundenheit.  Seit nun mehr als 30 Jahren musizieren die beiden immer wieder miteinander.  Ob in Clubs oder auf großen Festivalbühnen- Ihre Konzerte sind ein intensives Erlebnis\, das lange nachklingt. Ihre Musik erzählt Geschichten  von Sehnsucht\, Hoffnung und Liebe.    Beinahe zehn Jahre ist es nun her\, dass eine unverwechselbar  charmante Stimme in viel zu jungen Jahren verstummte.  Roger Cicero… der Jongleur zwischen Jazz\, Blues und Pop hat  längst eine Hommage verdient…    Shlomit Butbul: Jazz - bedeutet für mich Kindheit-Herz-Freiheit.  Der Bebop Jazz\, der immer unkonventionell war\, hat mich immer  am meisten berührt - wurde Fixbestand meines Lebensgefühls und  natürlich der Big Band Sound\, den das Publikum leicht im Herzen\,  warm im Körper spürt. Es geht um Liebe\, die funktioniert\, die nicht  funktioniert - um Leben und Lieben\, ist Traum und Wahrheit.    Shlomit Butbul\, Schauspielerin\, Sängerin\, Vokal Coach.  Zuletzt gesehen als Mutter von Falco in RMA. Bei den Seefestspielen in Mörbisch.  Tourend mit ihren Programmen:   Liebestöne nach ERICH FRIED oder WO LIEBE IST WIRD FRIEDEN SEIN hebräisches &amp\;jiddischkeit)\, TRIBUT AN ROGER CICERO!  www.shlomitbutbul.com   
LOCATION:Congress Centrum Baden\, DUO Butbul & Micko Congress Centrum Baden
END:VEVENT
END:VCALENDAR
