BEGIN:VCALENDAR
VERSION:2.0
PRODID:-//AudioTheme 3.0.2
BEGIN:VEVENT
UID:urn:uuid:bff358c9-8f8e-4ec7-8781-0be1a22a6e40
URL:https://www.shlomitbutbul.com/shows/doppelkonzert-women-in-music-shlomit-acapella/
DTSTART;TZID=GMT:20180501T173000
SUMMARY:DoppelKonzert "WOMEN IN MUSIC" SHLOMIT ACAPELLA
LOCATION:das tag  2\, Gumpendorferstrasse 20\, Vienna\, \, 1060
END:VEVENT
END:VCALENDAR
