BEGIN:VCALENDAR
VERSION:2.0
PRODID:-//AudioTheme 3.0.2
BEGIN:VEVENT
UID:urn:uuid:ad6a6420-863b-4cd0-815c-a789f601eee3
URL:https://www.shlomitbutbul.com/shows/anatevka-yente-und-frume-sarah/
DTSTART;TZID=GMT:20211209T170000
SUMMARY:ANATEVKA-YENTE und FRUME SARAH
DESCRIPTION:In der Produktion ANATEVKA/FIDDLER ON THE ROOF  spiele ich die Heiratsvermittlerin YENTE und die verstorbene Frau von Lazar Wolf den Fleischer FRUME SARAH.  Einige meiner wunderbaren Kollegen: Georgij Makazaria/Tevja\, Maya Haavoort/Golde\, Tania Golden/Oma Zeitel\, Alisha Biz/fiddler on the Roof.
LOCATION:Stadttheater Baden\, Theaterplatz 7\, Stadtheater Baden Theaterplatz 7\, \, 2500
END:VEVENT
END:VCALENDAR
